BEGIN:VCALENDAR
VERSION:2.0
PRODID:-//eventon.com NONSGML v1.0//EN
CALSCALE:GREGORIAN
METHOD:PUBLISH
BEGIN:VEVENT
UID:69ea00f0e65bb
DTSTAMP:20260423T112224Z
DTSTART:20260428T230000Z
DTEND:20260429T010000Z
LOCATION:Wichita City Hall — City Council Chambers 455 N. Main.
SUMMARY:Empowering Public Speaking Workshop
DESCRIPTION:2026 Wichita Documenters Empowering Public Speaking Workshop Wa
 nt to speak with confidence at city council or school board meetings? This 
 free workshop provides practical tools to help you organize your thoughts a
 nd be heard. Whether you are preparing to speak for the first time or want 
 to strengthen your public[..]\nhttps://kansasleadershipcenter.org/klcevents
 /empowering-public-speaking-workshop/
URL:https://kansasleadershipcenter.org/klcevents/empowering-public-speaking-workshop/
END:VEVENT
END:VCALENDAR